BEGIN:VCALENDAR
VERSION:2.0
PRODID:-//TYPO3/NONSGML Calendarize//EN
BEGIN:VEVENT
UID:calendarize-gemeinderats-vernetzungstreffen
DTSTAMP:20260423T103210Z
DTSTART:20260522T150000Z
DTEND:20260522T170000Z
SUMMARY:Gemeinderats-Vernetzungstreffen
DESCRIPTION:Grüne und grün-nahe Gemeinderät:innen im Rems-Murr-Kreis tr
 effen sich zu einem kollegialen Austausch. 
X-ALT-DESC;FMTTYPE=text/html:Grüne und grün-nahe Gemeinderät:innen im R
 ems-Murr-Kreis treffen sich zu einem kollegialen Austausch. 
LOCATION:Grünes Büro Waiblingen
END:VEVENT
END:VCALENDAR
